BEGIN:VCALENDAR
VERSION:2.0
PRODID:-//Builth Wells CP School - ECPv6.15.20//NONSGML v1.0//EN
CALSCALE:GREGORIAN
METHOD:PUBLISH
X-WR-CALNAME:Builth Wells CP School
X-ORIGINAL-URL:https://www.builth.powys.sch.uk
X-WR-CALDESC:Events for Builth Wells CP School
REFRESH-INTERVAL;VALUE=DURATION:PT1H
X-Robots-Tag:noindex
X-PUBLISHED-TTL:PT1H
BEGIN:VTIMEZONE
TZID:Europe/London
BEGIN:DAYLIGHT
TZOFFSETFROM:+0000
TZOFFSETTO:+0100
TZNAME:BST
DTSTART:20240331T010000
END:DAYLIGHT
BEGIN:STANDARD
TZOFFSETFROM:+0100
TZOFFSETTO:+0000
TZNAME:GMT
DTSTART:20241027T010000
END:STANDARD
BEGIN:DAYLIGHT
TZOFFSETFROM:+0000
TZOFFSETTO:+0100
TZNAME:BST
DTSTART:20250330T010000
END:DAYLIGHT
BEGIN:STANDARD
TZOFFSETFROM:+0100
TZOFFSETTO:+0000
TZNAME:GMT
DTSTART:20251026T010000
END:STANDARD
BEGIN:DAYLIGHT
TZOFFSETFROM:+0000
TZOFFSETTO:+0100
TZNAME:BST
DTSTART:20260329T010000
END:DAYLIGHT
BEGIN:STANDARD
TZOFFSETFROM:+0100
TZOFFSETTO:+0000
TZNAME:GMT
DTSTART:20261025T010000
END:STANDARD
BEGIN:DAYLIGHT
TZOFFSETFROM:+0000
TZOFFSETTO:+0100
TZNAME:BST
DTSTART:20270328T010000
END:DAYLIGHT
BEGIN:STANDARD
TZOFFSETFROM:+0100
TZOFFSETTO:+0000
TZNAME:GMT
DTSTART:20271031T010000
END:STANDARD
END:VTIMEZONE
BEGIN:VEVENT
DTSTART;VALUE=DATE:20260330
DTEND;VALUE=DATE:20260411
DTSTAMP:20260423T135553
CREATED:20260121T212650Z
LAST-MODIFIED:20260121T212650Z
UID:1017-1774828800-1775865599@www.builth.powys.sch.uk
SUMMARY:EASTER BREAK
DESCRIPTION:
URL:https://www.builth.powys.sch.uk/event/easter-break/
END:VEVENT
BEGIN:VEVENT
DTSTART;VALUE=DATE:20260327
DTEND;VALUE=DATE:20260328
DTSTAMP:20260423T135553
CREATED:20260121T212555Z
LAST-MODIFIED:20260121T212555Z
UID:1015-1774569600-1774655999@www.builth.powys.sch.uk
SUMMARY:BREAK FOR EASTER
DESCRIPTION:
URL:https://www.builth.powys.sch.uk/event/break-for-easter/
END:VEVENT
BEGIN:VEVENT
DTSTART;VALUE=DATE:20260325
DTEND;VALUE=DATE:20260326
DTSTAMP:20260423T135553
CREATED:20260211T202058Z
LAST-MODIFIED:20260211T202058Z
UID:1048-1774396800-1774483199@www.builth.powys.sch.uk
SUMMARY:Parents Evening
DESCRIPTION:
URL:https://www.builth.powys.sch.uk/event/parents-evening-2/
END:VEVENT
BEGIN:VEVENT
DTSTART;VALUE=DATE:20260321
DTEND;VALUE=DATE:20260322
DTSTAMP:20260423T135553
CREATED:20260121T212518Z
LAST-MODIFIED:20260121T212518Z
UID:1013-1774051200-1774137599@www.builth.powys.sch.uk
SUMMARY:URDD EISTEDDFOD\, BRYCHEINIOG A MAESYFED\, BRECON
DESCRIPTION:
URL:https://www.builth.powys.sch.uk/event/urdd-eisteddfod-brycheiniog-a-maesyfed-brecon/
END:VEVENT
BEGIN:VEVENT
DTSTART;VALUE=DATE:20260318
DTEND;VALUE=DATE:20260319
DTSTAMP:20260423T135553
CREATED:20260211T202034Z
LAST-MODIFIED:20260211T202034Z
UID:1046-1773792000-1773878399@www.builth.powys.sch.uk
SUMMARY:Parents Evening
DESCRIPTION:
URL:https://www.builth.powys.sch.uk/event/parents-evening/
END:VEVENT
BEGIN:VEVENT
DTSTART;VALUE=DATE:20260307
DTEND;VALUE=DATE:20260308
DTSTAMP:20260423T135553
CREATED:20260121T212444Z
LAST-MODIFIED:20260121T212444Z
UID:1011-1772841600-1772927999@www.builth.powys.sch.uk
SUMMARY:URDD EISTEDDFOD\, PAVILLION\, LLANDRINDOD
DESCRIPTION:
URL:https://www.builth.powys.sch.uk/event/urdd-eisteddfod-pavillion-llandrindod/
END:VEVENT
BEGIN:VEVENT
DTSTART;VALUE=DATE:20260306
DTEND;VALUE=DATE:20260307
DTSTAMP:20260423T135553
CREATED:20260121T212342Z
LAST-MODIFIED:20260121T212342Z
UID:1009-1772755200-1772841599@www.builth.powys.sch.uk
SUMMARY:CLUSTER INSET DAY
DESCRIPTION:
URL:https://www.builth.powys.sch.uk/event/cluster-inset-day/
END:VEVENT
BEGIN:VEVENT
DTSTART;VALUE=DATE:20260305
DTEND;VALUE=DATE:20260306
DTSTAMP:20260423T135553
CREATED:20260211T201956Z
LAST-MODIFIED:20260211T201956Z
UID:1044-1772668800-1772755199@www.builth.powys.sch.uk
SUMMARY:Urdd Rugby
DESCRIPTION:
URL:https://www.builth.powys.sch.uk/event/urdd-rugby/
END:VEVENT
BEGIN:VEVENT
DTSTART;VALUE=DATE:20260226
DTEND;VALUE=DATE:20260228
DTSTAMP:20260423T135553
CREATED:20260121T212314Z
LAST-MODIFIED:20260121T212314Z
UID:1007-1772064000-1772236799@www.builth.powys.sch.uk
SUMMARY:YEAR 4 VISIT TO CARDIFF
DESCRIPTION:
URL:https://www.builth.powys.sch.uk/event/year-4-visit-to-cardiff/
END:VEVENT
BEGIN:VEVENT
DTSTART;VALUE=DATE:20260223
DTEND;VALUE=DATE:20260224
DTSTAMP:20260423T135553
CREATED:20260121T212232Z
LAST-MODIFIED:20260121T212232Z
UID:1005-1771804800-1771891199@www.builth.powys.sch.uk
SUMMARY:CHILDREN RETURN TO SCHOOL
DESCRIPTION:
URL:https://www.builth.powys.sch.uk/event/children-return-to-school/
END:VEVENT
BEGIN:VEVENT
DTSTART;VALUE=DATE:20260216
DTEND;VALUE=DATE:20260221
DTSTAMP:20260423T135553
CREATED:20260121T212204Z
LAST-MODIFIED:20260121T212204Z
UID:1003-1771200000-1771631999@www.builth.powys.sch.uk
SUMMARY:HALF TERM BREAK
DESCRIPTION:
URL:https://www.builth.powys.sch.uk/event/half-term-break-2/
END:VEVENT
BEGIN:VEVENT
DTSTART;VALUE=DATE:20260213
DTEND;VALUE=DATE:20260214
DTSTAMP:20260423T135553
CREATED:20260121T212129Z
LAST-MODIFIED:20260121T212129Z
UID:1001-1770940800-1771027199@www.builth.powys.sch.uk
SUMMARY:BREAK FOR HALF TERM
DESCRIPTION:
URL:https://www.builth.powys.sch.uk/event/break-for-half-term-3/
END:VEVENT
BEGIN:VEVENT
DTSTART;VALUE=DATE:20260210
DTEND;VALUE=DATE:20260211
DTSTAMP:20260423T135553
CREATED:20260121T212105Z
LAST-MODIFIED:20260121T212105Z
UID:999-1770681600-1770767999@www.builth.powys.sch.uk
SUMMARY:SAFER INTERNET DAY
DESCRIPTION:
URL:https://www.builth.powys.sch.uk/event/safer-internet-day/
END:VEVENT
BEGIN:VEVENT
DTSTART;VALUE=DATE:20260128
DTEND;VALUE=DATE:20260129
DTSTAMP:20260423T135553
CREATED:20260121T212038Z
LAST-MODIFIED:20260121T212038Z
UID:997-1769558400-1769644799@www.builth.powys.sch.uk
SUMMARY:URDD MIXED NETBALL YRS 5 AND 6
DESCRIPTION:
URL:https://www.builth.powys.sch.uk/event/urdd-mixed-netball-yrs-5-and-6/
END:VEVENT
BEGIN:VEVENT
DTSTART;VALUE=DATE:20251219
DTEND;VALUE=DATE:20251220
DTSTAMP:20260423T135553
CREATED:20251120T121223Z
LAST-MODIFIED:20251120T121223Z
UID:975-1766102400-1766188799@www.builth.powys.sch.uk
SUMMARY:End of Autumn Term
DESCRIPTION:
URL:https://www.builth.powys.sch.uk/event/end-of-autumn-term/
END:VEVENT
BEGIN:VEVENT
DTSTART;VALUE=DATE:20251218
DTEND;VALUE=DATE:20251219
DTSTAMP:20260423T135553
CREATED:20250910T204855Z
LAST-MODIFIED:20250910T204855Z
UID:901-1766016000-1766102399@www.builth.powys.sch.uk
SUMMARY:Y5/6 visit to the Millennium Centre\, Cardiff to see ‘Mary Poppins’
DESCRIPTION:
URL:https://www.builth.powys.sch.uk/event/y5-6-visit-to-the-millennium-centre-cardiff-to-see-mary-poppins/
END:VEVENT
BEGIN:VEVENT
DTSTART;VALUE=DATE:20251217
DTEND;VALUE=DATE:20251218
DTSTAMP:20260423T135553
CREATED:20251120T120414Z
LAST-MODIFIED:20251120T120414Z
UID:973-1765929600-1766015999@www.builth.powys.sch.uk
SUMMARY:English stream Parents Evening
DESCRIPTION:
URL:https://www.builth.powys.sch.uk/event/english-stream-parents-evening/
END:VEVENT
BEGIN:VEVENT
DTSTART;VALUE=DATE:20251217
DTEND;VALUE=DATE:20251218
DTSTAMP:20260423T135553
CREATED:20251120T120348Z
LAST-MODIFIED:20251120T120348Z
UID:971-1765929600-1766015999@www.builth.powys.sch.uk
SUMMARY:Welsh stream Christmas Concert
DESCRIPTION:
URL:https://www.builth.powys.sch.uk/event/welsh-stream-christmas-concert-2/
END:VEVENT
BEGIN:VEVENT
DTSTART;VALUE=DATE:20251216
DTEND;VALUE=DATE:20251217
DTSTAMP:20260423T135553
CREATED:20251120T120318Z
LAST-MODIFIED:20251120T120318Z
UID:969-1765843200-1765929599@www.builth.powys.sch.uk
SUMMARY:Welsh stream Christmas Concert
DESCRIPTION:
URL:https://www.builth.powys.sch.uk/event/welsh-stream-christmas-concert/
END:VEVENT
BEGIN:VEVENT
DTSTART;VALUE=DATE:20251212
DTEND;VALUE=DATE:20251213
DTSTAMP:20260423T135553
CREATED:20250910T204828Z
LAST-MODIFIED:20250910T204828Z
UID:899-1765497600-1765583999@www.builth.powys.sch.uk
SUMMARY:English Stream Reception to Year 2 visit to The Courtyard Theatre\, Hereford to see ‘Hanzel and Gretal’.
DESCRIPTION:
URL:https://www.builth.powys.sch.uk/event/english-stream-reception-to-year-2-visit-to-the-courtyard-theatre-hereford-to-see-hanzel-and-gretal/
END:VEVENT
BEGIN:VEVENT
DTSTART;VALUE=DATE:20251211
DTEND;VALUE=DATE:20251212
DTSTAMP:20260423T135553
CREATED:20251120T120252Z
LAST-MODIFIED:20251120T120252Z
UID:967-1765411200-1765497599@www.builth.powys.sch.uk
SUMMARY:English Stream Christmas Concert
DESCRIPTION:
URL:https://www.builth.powys.sch.uk/event/english-stream-christmas-concert-2/
END:VEVENT
BEGIN:VEVENT
DTSTART;TZID=Europe/London:20251210T180000
DTEND;TZID=Europe/London:20251210T190000
DTSTAMP:20260423T135553
CREATED:20251120T120141Z
LAST-MODIFIED:20251120T120141Z
UID:963-1765389600-1765393200@www.builth.powys.sch.uk
SUMMARY:English Stream Christmas Concert
DESCRIPTION:
URL:https://www.builth.powys.sch.uk/event/english-stream-christmas-concert/
END:VEVENT
BEGIN:VEVENT
DTSTART;TZID=Europe/London:20251210T153000
DTEND;TZID=Europe/London:20251210T180000
DTSTAMP:20260423T135553
CREATED:20251120T120223Z
LAST-MODIFIED:20251120T120223Z
UID:965-1765380600-1765389600@www.builth.powys.sch.uk
SUMMARY:Welsh stream Parents Evening
DESCRIPTION:
URL:https://www.builth.powys.sch.uk/event/welsh-stream-parents-evening/
END:VEVENT
BEGIN:VEVENT
DTSTART;VALUE=DATE:20251209
DTEND;VALUE=DATE:20251210
DTSTAMP:20260423T135553
CREATED:20250910T204748Z
LAST-MODIFIED:20250910T204748Z
UID:897-1765238400-1765324799@www.builth.powys.sch.uk
SUMMARY:Ffrwd Gymraeg Reception to Year 2 visit to The Courtyard Theatre\, Hereford to see ‘Hanzel and Gretal’.
DESCRIPTION:
URL:https://www.builth.powys.sch.uk/event/ffrwd-gymraeg-reception-to-year-2-visit-to-the-courtyard-theatre-hereford-to-see-hanzel-and-gretal/
END:VEVENT
BEGIN:VEVENT
DTSTART;VALUE=DATE:20251204
DTEND;VALUE=DATE:20251205
DTSTAMP:20260423T135553
CREATED:20250910T204717Z
LAST-MODIFIED:20250910T204717Z
UID:895-1764806400-1764892799@www.builth.powys.sch.uk
SUMMARY:Y3/4 visit to The Sherman Theatre\, Cardiff to see ‘Return to Wonderland’.
DESCRIPTION:
URL:https://www.builth.powys.sch.uk/event/y3-4-visit-to-the-sherman-theatre-cardiff-to-see-return-to-wonderland/
END:VEVENT
BEGIN:VEVENT
DTSTART;TZID=Europe/London:20251126T033000
DTEND;TZID=Europe/London:20251126T063000
DTSTAMP:20260423T135553
CREATED:20251120T120052Z
LAST-MODIFIED:20251120T120052Z
UID:961-1764127800-1764138600@www.builth.powys.sch.uk
SUMMARY:Parents Evening/ Noson Rieni
DESCRIPTION:
URL:https://www.builth.powys.sch.uk/event/parents-evening-noson-rieni/
END:VEVENT
BEGIN:VEVENT
DTSTART;VALUE=DATE:20251110
DTEND;VALUE=DATE:20251115
DTSTAMP:20260423T135553
CREATED:20250910T204621Z
LAST-MODIFIED:20250910T204621Z
UID:891-1762732800-1763164799@www.builth.powys.sch.uk
SUMMARY:Powys Deaflympics Week celebrating Deaflympics Tokyo 2025
DESCRIPTION:
URL:https://www.builth.powys.sch.uk/event/powys-deaflympics-week-celebrating-deaflympics-tokyo-2025/
END:VEVENT
BEGIN:VEVENT
DTSTART;VALUE=DATE:20251110
DTEND;VALUE=DATE:20251111
DTSTAMP:20260423T135553
CREATED:20250910T204645Z
LAST-MODIFIED:20250910T204645Z
UID:893-1762732800-1762819199@www.builth.powys.sch.uk
SUMMARY:Mark Withey – Wales Deaf Rugby player visiting
DESCRIPTION:
URL:https://www.builth.powys.sch.uk/event/mark-withey-wales-deaf-rugby-player-visiting/
END:VEVENT
BEGIN:VEVENT
DTSTART;VALUE=DATE:20251027
DTEND;VALUE=DATE:20251101
DTSTAMP:20260423T135553
CREATED:20250910T204547Z
LAST-MODIFIED:20250910T204547Z
UID:889-1761523200-1761955199@www.builth.powys.sch.uk
SUMMARY:Half Term Break
DESCRIPTION:
URL:https://www.builth.powys.sch.uk/event/half-term-break/
END:VEVENT
BEGIN:VEVENT
DTSTART;VALUE=DATE:20251017
DTEND;VALUE=DATE:20251018
DTSTAMP:20260423T135553
CREATED:20250910T204427Z
LAST-MODIFIED:20250910T204427Z
UID:885-1760659200-1760745599@www.builth.powys.sch.uk
SUMMARY:Harvest – English Stream Y1 to Y6\, 2p.m. at school
DESCRIPTION:
URL:https://www.builth.powys.sch.uk/event/harvest-english-stream-y1-to-y6-2p-m-at-school/
END:VEVENT
END:VCALENDAR